Package: RedeR Version: 3.3.0 Command: /Library/Frameworks/R.framework/Resources/bin/R CMD INSTALL RedeR StartedAt: 2025-02-09 15:08:29 -0500 (Sun, 09 Feb 2025) EndedAt: 2025-02-09 15:08:45 -0500 (Sun, 09 Feb 2025) EllapsedTime: 15.5 seconds RetCode: 0 Status: OK