Package: RedeR Version: 3.3.0 Command: /home/biocbuild/bbs-3.21-bioc/R/bin/R CMD check --install=check:RedeR.install-out.txt --library=/home/biocbuild/bbs-3.21-bioc/R/site-library --timings RedeR_3.3.0.tar.gz StartedAt: 2025-02-13 01:47:07 -0500 (Thu, 13 Feb 2025) EndedAt: 2025-02-13 01:47:44 -0500 (Thu, 13 Feb 2025) EllapsedTime: 37.0 seconds RetCode: 0 Status: OK CheckDir: RedeR.Rcheck Warnings: 0