Package: RedeR Version: 3.3.0 Command: /home/biocbuild/bbs-3.21-bioc/R/bin/R CMD INSTALL RedeR StartedAt: 2025-02-09 15:06:01 -0500 (Sun, 09 Feb 2025) EndedAt: 2025-02-09 15:06:17 -0500 (Sun, 09 Feb 2025) EllapsedTime: 16.1 seconds RetCode: 0 Status: OK