Package: RedeR Version: 3.3.0 Command: rm -rf RedeR.buildbin-libdir && mkdir RedeR.buildbin-libdir && E:\biocbuild\bbs-3.21-bioc\R\bin\R.exe CMD INSTALL --build --library=RedeR.buildbin-libdir RedeR_3.3.0.tar.gz StartedAt: 2025-02-10 08:31:15 -0500 (Mon, 10 Feb 2025) EndedAt: 2025-02-10 08:31:56 -0500 (Mon, 10 Feb 2025) EllapsedTime: 41.5 seconds RetCode: 0 Status: OK PackageFile: RedeR_3.3.0.zip PackageFileSize: 3.631 MiB