Package: RedeR Version: 3.3.0 Command: E:\biocbuild\bbs-3.21-bioc\R\bin\R.exe CMD check --no-multiarch --install=check:RedeR.install-out.txt --library=E:\biocbuild\bbs-3.21-bioc\R\library --no-vignettes --timings RedeR_3.3.0.tar.gz StartedAt: 2025-02-10 04:35:03 -0500 (Mon, 10 Feb 2025) EndedAt: 2025-02-10 04:35:57 -0500 (Mon, 10 Feb 2025) EllapsedTime: 54.0 seconds RetCode: 0 Status: OK CheckDir: RedeR.Rcheck Warnings: 0