Package: RedeR Version: 3.3.0 Command: E:\biocbuild\bbs-3.21-bioc\R\bin\R.exe CMD INSTALL RedeR StartedAt: 2025-02-09 15:30:40 -0500 (Sun, 09 Feb 2025) EndedAt: 2025-02-09 15:31:22 -0500 (Sun, 09 Feb 2025) EllapsedTime: 41.7 seconds RetCode: 0 Status: OK