Package: ReducedExperiment Version: 0.99.6 Command: rm -rf ReducedExperiment.buildbin-libdir && mkdir ReducedExperiment.buildbin-libdir && /Users/biocbuild/BBS/utils/build-universal.sh ReducedExperiment_0.99.6.tar.gz /Library/Frameworks/R.framework/Resources/bin/R ReducedExperiment.buildbin-libdir StartedAt: 2025-02-04 22:28:53 -0500 (Tue, 04 Feb 2025) EndedAt: 2025-02-04 22:29:08 -0500 (Tue, 04 Feb 2025) EllapsedTime: 15.3 seconds RetCode: 0 Status: OK PackageFile: ReducedExperiment_0.99.6.tgz PackageFileSize: 3.677 MiB