Package: ReducedExperiment Version: 0.99.6 Command: /home/biocbuild/R/R/bin/R CMD build --keep-empty-dirs --no-resave-data ReducedExperiment StartedAt: 2025-01-29 01:35:35 -0000 (Wed, 29 Jan 2025) EndedAt: 2025-01-29 01:38:59 -0000 (Wed, 29 Jan 2025) EllapsedTime: 204.1 seconds RetCode: 0 Status: OK PackageFile: ReducedExperiment_0.99.6.tar.gz PackageFileSize: 1.862 MiB