Package: ReducedExperiment Version: 0.99.6 Command: /Library/Frameworks/R.framework/Resources/bin/R CMD build --keep-empty-dirs --no-resave-data ReducedExperiment StartedAt: 2025-02-04 18:00:24 -0500 (Tue, 04 Feb 2025) EndedAt: 2025-02-04 18:02:26 -0500 (Tue, 04 Feb 2025) EllapsedTime: 122.2 seconds RetCode: 0 Status: OK PackageFile: ReducedExperiment_0.99.6.tar.gz PackageFileSize: 2.906 MiB