Package: ReducedExperiment Version: 0.99.6 Command: /Library/Frameworks/R.framework/Resources/bin/R CMD check --install=check:ReducedExperiment.install-out.txt --library=/Library/Frameworks/R.framework/Resources/library --no-vignettes --timings ReducedExperiment_0.99.6.tar.gz StartedAt: 2025-02-04 22:44:13 -0500 (Tue, 04 Feb 2025) EndedAt: 2025-02-04 22:51:13 -0500 (Tue, 04 Feb 2025) EllapsedTime: 419.7 seconds RetCode: 0 Status: OK CheckDir: ReducedExperiment.Rcheck Warnings: 0