Package: ReducedExperiment Version: 0.99.6 Command: /Library/Frameworks/R.framework/Resources/bin/R CMD INSTALL ReducedExperiment StartedAt: 2025-02-04 15:33:19 -0500 (Tue, 04 Feb 2025) EndedAt: 2025-02-04 15:34:05 -0500 (Tue, 04 Feb 2025) EllapsedTime: 45.8 seconds RetCode: 0 Status: OK