Package: ReducedExperiment Version: 0.99.6 Command: /home/biocbuild/bbs-3.21-bioc/R/bin/R CMD check --install=check:ReducedExperiment.install-out.txt --library=/home/biocbuild/bbs-3.21-bioc/R/site-library --timings ReducedExperiment_0.99.6.tar.gz StartedAt: 2025-02-05 01:54:37 -0500 (Wed, 05 Feb 2025) EndedAt: 2025-02-05 02:02:37 -0500 (Wed, 05 Feb 2025) EllapsedTime: 480.8 seconds RetCode: 0 Status: OK CheckDir: ReducedExperiment.Rcheck Warnings: 0