Package: ReducedExperiment Version: 0.99.6 Command: rm -rf ReducedExperiment.buildbin-libdir && mkdir ReducedExperiment.buildbin-libdir && E:\biocbuild\bbs-3.21-bioc\R\bin\R.exe CMD INSTALL --build --library=ReducedExperiment.buildbin-libdir ReducedExperiment_0.99.6.tar.gz StartedAt: 2025-02-05 08:42:35 -0500 (Wed, 05 Feb 2025) EndedAt: 2025-02-05 08:45:30 -0500 (Wed, 05 Feb 2025) EllapsedTime: 175.9 seconds RetCode: 0 Status: OK PackageFile: ReducedExperiment_0.99.6.zip PackageFileSize: 2.488 MiB