Package: ReducedExperiment Version: 0.99.6 Command: chmod a+r ReducedExperiment -R && E:\biocbuild\bbs-3.21-bioc\R\bin\R.exe CMD build --keep-empty-dirs --no-resave-data ReducedExperiment StartedAt: 2025-02-04 21:08:49 -0500 (Tue, 04 Feb 2025) EndedAt: 2025-02-04 21:12:14 -0500 (Tue, 04 Feb 2025) EllapsedTime: 204.9 seconds RetCode: 0 Status: OK PackageFile: ReducedExperiment_0.99.6.tar.gz PackageFileSize: 1.723 MiB