Package: ReducedExperiment Version: 0.99.6 Command: E:\biocbuild\bbs-3.21-bioc\R\bin\R.exe CMD check --no-multiarch --install=check:ReducedExperiment.install-out.txt --library=E:\biocbuild\bbs-3.21-bioc\R\library --no-vignettes --timings ReducedExperiment_0.99.6.tar.gz StartedAt: 2025-02-05 05:00:34 -0500 (Wed, 05 Feb 2025) EndedAt: 2025-02-05 05:07:59 -0500 (Wed, 05 Feb 2025) EllapsedTime: 444.6 seconds RetCode: 0 Status: OK CheckDir: ReducedExperiment.Rcheck Warnings: 0