Package: ReducedExperiment Version: 0.99.6 Command: E:\biocbuild\bbs-3.21-bioc\R\bin\R.exe CMD INSTALL ReducedExperiment StartedAt: 2025-02-04 16:31:51 -0500 (Tue, 04 Feb 2025) EndedAt: 2025-02-04 16:35:39 -0500 (Tue, 04 Feb 2025) EllapsedTime: 228.5 seconds RetCode: 0 Status: OK