Package: RegEnrich Version: 1.17.0 Command: rm -rf RegEnrich.buildbin-libdir && mkdir RegEnrich.buildbin-libdir && /Users/biocbuild/BBS/utils/build-universal.sh RegEnrich_1.17.0.tar.gz /Library/Frameworks/R.framework/Resources/bin/R RegEnrich.buildbin-libdir StartedAt: 2025-02-09 22:27:04 -0500 (Sun, 09 Feb 2025) EndedAt: 2025-02-09 22:27:20 -0500 (Sun, 09 Feb 2025) EllapsedTime: 16.3 seconds RetCode: 0 Status: OK PackageFile: RegEnrich_1.17.0.tgz PackageFileSize: 1.59 MiB