Package: RegEnrich Version: 1.17.0 Command: /Library/Frameworks/R.framework/Resources/bin/R CMD check --install=check:RegEnrich.install-out.txt --library=/Library/Frameworks/R.framework/Resources/library --no-vignettes --timings RegEnrich_1.17.0.tar.gz StartedAt: 2025-02-04 20:56:25 -0500 (Tue, 04 Feb 2025) EndedAt: 2025-02-04 20:58:14 -0500 (Tue, 04 Feb 2025) EllapsedTime: 108.3 seconds RetCode: 0 Status: OK CheckDir: RegEnrich.Rcheck Warnings: 0