Package: RegEnrich Version: 1.17.0 Command: /home/biocbuild/R/R/bin/R CMD build --keep-empty-dirs --no-resave-data RegEnrich StartedAt: 2025-01-29 01:35:41 -0000 (Wed, 29 Jan 2025) EndedAt: 2025-01-29 01:40:30 -0000 (Wed, 29 Jan 2025) EllapsedTime: 289.1 seconds RetCode: 0 Status: OK PackageFile: RegEnrich_1.17.0.tar.gz PackageFileSize: 1.163 MiB