Package: RegEnrich Version: 1.17.0 Command: /home/biocbuild/R/R/bin/R CMD INSTALL RegEnrich StartedAt: 2025-01-29 20:17:12 -0000 (Wed, 29 Jan 2025) EndedAt: 2025-01-29 20:18:03 -0000 (Wed, 29 Jan 2025) EllapsedTime: 50.5 seconds RetCode: 0 Status: OK