Package: RegEnrich Version: 1.17.0 Command: /Library/Frameworks/R.framework/Resources/bin/R CMD build --keep-empty-dirs --no-resave-data RegEnrich StartedAt: 2025-02-09 18:07:50 -0500 (Sun, 09 Feb 2025) EndedAt: 2025-02-09 18:13:14 -0500 (Sun, 09 Feb 2025) EllapsedTime: 323.7 seconds RetCode: 0 Status: OK PackageFile: RegEnrich_1.17.0.tar.gz PackageFileSize: 1.136 MiB