Package: RegEnrich Version: 1.17.0 Command: /home/biocbuild/bbs-3.21-bioc/R/bin/R CMD check --install=check:RegEnrich.install-out.txt --library=/home/biocbuild/bbs-3.21-bioc/R/site-library --timings RegEnrich_1.17.0.tar.gz StartedAt: 2025-02-05 01:54:39 -0500 (Wed, 05 Feb 2025) EndedAt: 2025-02-05 02:04:04 -0500 (Wed, 05 Feb 2025) EllapsedTime: 565.0 seconds RetCode: 0 Status: OK CheckDir: RegEnrich.Rcheck Warnings: 0