Package: RegEnrich Version: 1.17.0 Command: /home/biocbuild/bbs-3.21-bioc/R/bin/R CMD INSTALL RegEnrich StartedAt: 2025-02-04 15:41:25 -0500 (Tue, 04 Feb 2025) EndedAt: 2025-02-04 15:42:00 -0500 (Tue, 04 Feb 2025) EllapsedTime: 35.0 seconds RetCode: 0 Status: OK