Package: RegEnrich Version: 1.17.0 Command: rm -rf RegEnrich.buildbin-libdir && mkdir RegEnrich.buildbin-libdir && E:\biocbuild\bbs-3.21-bioc\R\bin\R.exe CMD INSTALL --build --library=RegEnrich.buildbin-libdir RegEnrich_1.17.0.tar.gz StartedAt: 2025-02-05 08:42:36 -0500 (Wed, 05 Feb 2025) EndedAt: 2025-02-05 08:43:34 -0500 (Wed, 05 Feb 2025) EllapsedTime: 57.2 seconds RetCode: 0 Status: OK PackageFile: RegEnrich_1.17.0.zip PackageFileSize: 1.594 MiB