Package: RegEnrich Version: 1.17.0 Command: E:\biocbuild\bbs-3.21-bioc\R\bin\R.exe CMD check --no-multiarch --install=check:RegEnrich.install-out.txt --library=E:\biocbuild\bbs-3.21-bioc\R\library --no-vignettes --timings RegEnrich_1.17.0.tar.gz StartedAt: 2025-02-10 04:35:51 -0500 (Mon, 10 Feb 2025) EndedAt: 2025-02-10 04:42:12 -0500 (Mon, 10 Feb 2025) EllapsedTime: 381.2 seconds RetCode: 0 Status: OK CheckDir: RegEnrich.Rcheck Warnings: 0