Package: RegionalST Version: 1.5.8 Command: rm -rf RegionalST.buildbin-libdir && mkdir RegionalST.buildbin-libdir && /Users/biocbuild/BBS/utils/build-universal.sh RegionalST_1.5.8.tar.gz /Library/Frameworks/R.framework/Resources/bin/R RegionalST.buildbin-libdir StartedAt: 2025-02-04 22:28:55 -0500 (Tue, 04 Feb 2025) EndedAt: 2025-02-04 22:29:07 -0500 (Tue, 04 Feb 2025) EllapsedTime: 12.2 seconds RetCode: 0 Status: OK PackageFile: RegionalST_1.5.8.tgz PackageFileSize: 3.99 MiB