Package: RegionalST Version: 1.5.8 Command: /Library/Frameworks/R.framework/Resources/bin/R CMD build --keep-empty-dirs --no-resave-data RegionalST StartedAt: 2025-02-04 17:22:42 -0500 (Tue, 04 Feb 2025) EndedAt: 2025-02-04 17:23:22 -0500 (Tue, 04 Feb 2025) EllapsedTime: 40.4 seconds RetCode: 0 Status: OK PackageFile: RegionalST_1.5.8.tar.gz PackageFileSize: 4.361 MiB