Package: RegionalST Version: 1.5.8 Command: /Library/Frameworks/R.framework/Resources/bin/R CMD INSTALL RegionalST StartedAt: 2025-02-04 15:29:46 -0500 (Tue, 04 Feb 2025) EndedAt: 2025-02-04 15:29:57 -0500 (Tue, 04 Feb 2025) EllapsedTime: 11.2 seconds RetCode: 0 Status: OK