Package: RegionalST Version: 1.5.8 Command: /home/biocbuild/R/R/bin/R CMD build --keep-empty-dirs --no-resave-data RegionalST StartedAt: 2025-01-29 01:35:50 -0000 (Wed, 29 Jan 2025) EndedAt: 2025-01-29 02:15:51 -0000 (Wed, 29 Jan 2025) EllapsedTime: 2401.0 seconds RetCode: None Status: TIMEOUT PackageFile: None PackageFileSize: NA