Package: RegionalST Version: 1.5.8 Command: /Library/Frameworks/R.framework/Resources/bin/R CMD check --install=check:RegionalST.install-out.txt --library=/Library/Frameworks/R.framework/Resources/library --no-vignettes --timings RegionalST_1.5.8.tar.gz StartedAt: 2025-02-04 22:44:22 -0500 (Tue, 04 Feb 2025) EndedAt: 2025-02-04 22:49:12 -0500 (Tue, 04 Feb 2025) EllapsedTime: 289.7 seconds RetCode: 0 Status: OK CheckDir: RegionalST.Rcheck Warnings: 0