Package: RegionalST Version: 1.5.8 Command: /Library/Frameworks/R.framework/Resources/bin/R CMD INSTALL RegionalST StartedAt: 2025-02-04 15:45:15 -0500 (Tue, 04 Feb 2025) EndedAt: 2025-02-04 15:45:37 -0500 (Tue, 04 Feb 2025) EllapsedTime: 22.4 seconds RetCode: 0 Status: OK