Package: RegionalST Version: 1.5.8 Command: /home/biocbuild/bbs-3.21-bioc/R/bin/R CMD build --keep-empty-dirs --no-resave-data RegionalST StartedAt: 2025-02-04 18:50:46 -0500 (Tue, 04 Feb 2025) EndedAt: 2025-02-04 18:52:25 -0500 (Tue, 04 Feb 2025) EllapsedTime: 99.1 seconds RetCode: 0 Status: OK PackageFile: RegionalST_1.5.8.tar.gz PackageFileSize: 4.192 MiB