Package: RegionalST Version: 1.5.8 Command: /home/biocbuild/bbs-3.21-bioc/R/bin/R CMD check --install=check:RegionalST.install-out.txt --library=/home/biocbuild/bbs-3.21-bioc/R/site-library --timings RegionalST_1.5.8.tar.gz StartedAt: 2025-02-05 01:55:42 -0500 (Wed, 05 Feb 2025) EndedAt: 2025-02-05 02:01:23 -0500 (Wed, 05 Feb 2025) EllapsedTime: 341.5 seconds RetCode: 0 Status: OK CheckDir: RegionalST.Rcheck Warnings: 0