Package: RegionalST Version: 1.5.8 Command: /home/biocbuild/bbs-3.21-bioc/R/bin/R CMD INSTALL RegionalST StartedAt: 2025-02-04 15:54:21 -0500 (Tue, 04 Feb 2025) EndedAt: 2025-02-04 15:54:48 -0500 (Tue, 04 Feb 2025) EllapsedTime: 26.8 seconds RetCode: 0 Status: OK