Package: RegionalST Version: 1.5.8 Command: rm -rf RegionalST.buildbin-libdir && mkdir RegionalST.buildbin-libdir && E:\biocbuild\bbs-3.21-bioc\R\bin\R.exe CMD INSTALL --build --library=RegionalST.buildbin-libdir RegionalST_1.5.8.tar.gz StartedAt: 2025-02-05 08:42:40 -0500 (Wed, 05 Feb 2025) EndedAt: 2025-02-05 08:43:20 -0500 (Wed, 05 Feb 2025) EllapsedTime: 39.3 seconds RetCode: 0 Status: OK PackageFile: RegionalST_1.5.8.zip PackageFileSize: 2.02 MiB