Package: RegionalST Version: 1.5.8 Command: E:\biocbuild\bbs-3.21-bioc\R\bin\R.exe CMD check --no-multiarch --install=check:RegionalST.install-out.txt --library=E:\biocbuild\bbs-3.21-bioc\R\library --no-vignettes --timings RegionalST_1.5.8.tar.gz StartedAt: 2025-02-10 04:36:34 -0500 (Mon, 10 Feb 2025) EndedAt: 2025-02-10 04:42:29 -0500 (Mon, 10 Feb 2025) EllapsedTime: 354.9 seconds RetCode: 0 Status: OK CheckDir: RegionalST.Rcheck Warnings: 0