Package: RegionalST Version: 1.5.8 Command: E:\biocbuild\bbs-3.21-bioc\R\bin\R.exe CMD INSTALL RegionalST StartedAt: 2025-02-04 16:59:27 -0500 (Tue, 04 Feb 2025) EndedAt: 2025-02-04 16:59:53 -0500 (Tue, 04 Feb 2025) EllapsedTime: 25.5 seconds RetCode: 0 Status: OK