Package: ReportingTools Version: 2.47.0 Command: rm -rf ReportingTools.buildbin-libdir && mkdir ReportingTools.buildbin-libdir && /Users/biocbuild/BBS/utils/build-universal.sh ReportingTools_2.47.0.tar.gz /Library/Frameworks/R.framework/Resources/bin/R ReportingTools.buildbin-libdir StartedAt: 2025-02-09 22:27:09 -0500 (Sun, 09 Feb 2025) EndedAt: 2025-02-09 22:27:37 -0500 (Sun, 09 Feb 2025) EllapsedTime: 27.5 seconds RetCode: 0 Status: OK PackageFile: ReportingTools_2.47.0.tgz PackageFileSize: 1.82 MiB