Package: ReportingTools Version: 2.47.0 Command: /Library/Frameworks/R.framework/Resources/bin/R CMD build --keep-empty-dirs --no-resave-data ReportingTools StartedAt: 2025-02-12 17:23:10 -0500 (Wed, 12 Feb 2025) EndedAt: 2025-02-12 17:23:44 -0500 (Wed, 12 Feb 2025) EllapsedTime: 33.4 seconds RetCode: 0 Status: OK PackageFile: ReportingTools_2.47.0.tar.gz PackageFileSize: 1.786 MiB