Package: ReportingTools Version: 2.47.0 Command: /Library/Frameworks/R.framework/Resources/bin/R CMD INSTALL ReportingTools StartedAt: 2025-02-09 15:20:34 -0500 (Sun, 09 Feb 2025) EndedAt: 2025-02-09 15:20:59 -0500 (Sun, 09 Feb 2025) EllapsedTime: 25.4 seconds RetCode: 0 Status: OK