Package: ReportingTools Version: 2.47.0 Command: /home/biocbuild/R/R/bin/R CMD check --install=check:ReportingTools.install-out.txt --library=/home/biocbuild/R/R/site-library --no-vignettes --timings ReportingTools_2.47.0.tar.gz StartedAt: 2025-01-28 14:27:10 -0000 (Tue, 28 Jan 2025) EndedAt: 2025-01-28 14:27:15 -0000 (Tue, 28 Jan 2025) EllapsedTime: 5.0 seconds RetCode: 1 Status: ERROR CheckDir: ReportingTools.Rcheck Warnings: NA