Package: ReportingTools Version: 2.47.0 Command: /home/biocbuild/bbs-3.21-bioc/R/bin/R CMD INSTALL ReportingTools StartedAt: 2025-02-09 15:45:38 -0500 (Sun, 09 Feb 2025) EndedAt: 2025-02-09 15:46:41 -0500 (Sun, 09 Feb 2025) EllapsedTime: 63.3 seconds RetCode: 0 Status: OK