Package: ReportingTools Version: 2.47.0 Command: rm -rf ReportingTools.buildbin-libdir && mkdir ReportingTools.buildbin-libdir && E:\biocbuild\bbs-3.21-bioc\R\bin\R.exe CMD INSTALL --build --library=ReportingTools.buildbin-libdir ReportingTools_2.47.0.tar.gz StartedAt: 2025-02-10 08:31:59 -0500 (Mon, 10 Feb 2025) EndedAt: 2025-02-10 08:34:32 -0500 (Mon, 10 Feb 2025) EllapsedTime: 152.3 seconds RetCode: 0 Status: OK PackageFile: ReportingTools_2.47.0.zip PackageFileSize: 1.839 MiB