Package: ReportingTools Version: 2.47.0 Command: chmod a+r ReportingTools -R && E:\biocbuild\bbs-3.21-bioc\R\bin\R.exe CMD build --keep-empty-dirs --no-resave-data ReportingTools StartedAt: 2025-02-09 21:07:46 -0500 (Sun, 09 Feb 2025) EndedAt: 2025-02-09 21:13:19 -0500 (Sun, 09 Feb 2025) EllapsedTime: 333.0 seconds RetCode: 0 Status: OK PackageFile: ReportingTools_2.47.0.tar.gz PackageFileSize: 1.791 MiB