Package: ReportingTools Version: 2.47.0 Command: E:\biocbuild\bbs-3.21-bioc\R\bin\R.exe CMD INSTALL ReportingTools StartedAt: 2025-02-12 16:37:22 -0500 (Wed, 12 Feb 2025) EndedAt: 2025-02-12 16:39:31 -0500 (Wed, 12 Feb 2025) EllapsedTime: 129.2 seconds RetCode: 0 Status: OK