Package: Rfastp Version: 1.17.0 Command: /Library/Frameworks/R.framework/Resources/bin/R CMD INSTALL Rfastp StartedAt: 2025-02-04 15:05:45 -0500 (Tue, 04 Feb 2025) EndedAt: 2025-02-04 15:06:09 -0500 (Tue, 04 Feb 2025) EllapsedTime: 24.1 seconds RetCode: 0 Status: OK