Package: Rfastp Version: 1.17.0 Command: /home/biocbuild/R/R/bin/R CMD check --install=check:Rfastp.install-out.txt --library=/home/biocbuild/R/R/site-library --no-vignettes --timings Rfastp_1.17.0.tar.gz StartedAt: 2025-01-28 14:28:36 -0000 (Tue, 28 Jan 2025) EndedAt: 2025-01-28 14:29:16 -0000 (Tue, 28 Jan 2025) EllapsedTime: 40.0 seconds RetCode: 0 Status: WARNINGS CheckDir: Rfastp.Rcheck Warnings: 1