Package: Rfastp Version: 1.17.0 Command: /Library/Frameworks/R.framework/Resources/bin/R CMD check --install=check:Rfastp.install-out.txt --library=/Library/Frameworks/R.framework/Resources/library --no-vignettes --timings Rfastp_1.17.0.tar.gz StartedAt: 2025-02-03 22:48:31 -0500 (Mon, 03 Feb 2025) EndedAt: 2025-02-03 22:49:19 -0500 (Mon, 03 Feb 2025) EllapsedTime: 48.1 seconds RetCode: 0 Status: WARNINGS CheckDir: Rfastp.Rcheck Warnings: 1