Package: Rfastp Version: 1.17.0 Command: rm -rf Rfastp.buildbin-libdir && mkdir Rfastp.buildbin-libdir && E:\biocbuild\bbs-3.21-bioc\R\bin\R.exe CMD INSTALL --build --library=Rfastp.buildbin-libdir Rfastp_1.17.0.tar.gz StartedAt: 2025-02-10 08:32:18 -0500 (Mon, 10 Feb 2025) EndedAt: 2025-02-10 08:34:04 -0500 (Mon, 10 Feb 2025) EllapsedTime: 106.2 seconds RetCode: 0 Status: OK PackageFile: Rfastp_1.17.0.zip PackageFileSize: 2.907 MiB