Package: Rfastp Version: 1.17.0 Command: chmod a+r Rfastp -R && E:\biocbuild\bbs-3.21-bioc\R\bin\R.exe CMD build --keep-empty-dirs --no-resave-data Rfastp StartedAt: 2025-02-09 21:08:53 -0500 (Sun, 09 Feb 2025) EndedAt: 2025-02-09 21:11:14 -0500 (Sun, 09 Feb 2025) EllapsedTime: 141.2 seconds RetCode: 0 Status: OK PackageFile: Rfastp_1.17.0.tar.gz PackageFileSize: 2.421 MiB